BEGIN:VCALENDAR
VERSION:2.0
PRODID:-//HAPCAP - ECPv6.15.20//NONSGML v1.0//EN
CALSCALE:GREGORIAN
METHOD:PUBLISH
X-WR-CALNAME:HAPCAP
X-ORIGINAL-URL:https://hapcap.org
X-WR-CALDESC:Events for HAPCAP
REFRESH-INTERVAL;VALUE=DURATION:PT1H
X-Robots-Tag:noindex
X-PUBLISHED-TTL:PT1H
BEGIN:VTIMEZONE
TZID:UTC
BEGIN:STANDARD
TZOFFSETFROM:+0000
TZOFFSETTO:+0000
TZNAME:UTC
DTSTART:20210101T000000
END:STANDARD
END:VTIMEZONE
BEGIN:VTIMEZONE
TZID:America/Halifax
BEGIN:DAYLIGHT
TZOFFSETFROM:-0400
TZOFFSETTO:-0300
TZNAME:ADT
DTSTART:20210314T060000
END:DAYLIGHT
BEGIN:STANDARD
TZOFFSETFROM:-0300
TZOFFSETTO:-0400
TZNAME:AST
DTSTART:20211107T050000
END:STANDARD
BEGIN:DAYLIGHT
TZOFFSETFROM:-0400
TZOFFSETTO:-0300
TZNAME:ADT
DTSTART:20220313T060000
END:DAYLIGHT
BEGIN:STANDARD
TZOFFSETFROM:-0300
TZOFFSETTO:-0400
TZNAME:AST
DTSTART:20221106T050000
END:STANDARD
BEGIN:DAYLIGHT
TZOFFSETFROM:-0400
TZOFFSETTO:-0300
TZNAME:ADT
DTSTART:20230312T060000
END:DAYLIGHT
BEGIN:STANDARD
TZOFFSETFROM:-0300
TZOFFSETTO:-0400
TZNAME:AST
DTSTART:20231105T050000
END:STANDARD
END:VTIMEZONE
BEGIN:VEVENT
DTSTART;TZID=UTC:20220708T100000
DTEND;TZID=UTC:20220708T120000
DTSTAMP:20260421T111519
CREATED:20220621T134317Z
LAST-MODIFIED:20220621T134317Z
UID:6056-1657274400-1657281600@hapcap.org
SUMMARY:
DESCRIPTION:The Southeast Ohio Foodbank\, a program of Hocking Athens Perry Community Action\, will be hosting a food distribution of Friday\, July 8\, 2022 from 10:00 AM until 12:00 PM. Fresh produce and other food items will be distributed to families who are residents of Washington County and under 200% of the federal poverty guidelines.  \nWhen: Friday July 8\, 10:00 AM – 12:00 PM\nWhere: Washington County Fairgrounds\, 922 Front Street Marietta\, OH 45750\nWhat to bring?: Photo ID and proof of residency no more than 60 days old \nPre-registration is required!\nVisit freshtrak.com and enter your Washington Co. zip code. Scroll down to the date of the distribution\, and click “RSVP: under SE Ohio Foodbank Washington Mobile Market.  \nQuestions?:\nCall (740)385-6813 or email jinnifer.steward@hapcap.org
URL:https://hapcap.org/event/6056/
LOCATION:Washington County Fairgrounds\, 922 Front St.\, Marietta\, OH\, 45750\, United States
END:VEVENT
BEGIN:VEVENT
DTSTART;TZID=UTC:20220701T100000
DTEND;TZID=UTC:20220701T120000
DTSTAMP:20260421T111519
CREATED:20220621T133834Z
LAST-MODIFIED:20220621T133834Z
UID:6053-1656669600-1656676800@hapcap.org
SUMMARY:Mobile Market - Gallia County 7/1/22
DESCRIPTION:The Southeast Ohio Foodbank\, a program of Hocking Athens Perry Community Action\, will be hosting a food distribution of Friday\, July 1\, 2022 from 10:00 AM until 12:00 PM. Fresh produce and other food items will be distributed to families who are residents of Gallia County and under 200% of the federal poverty guidelines.  \nWhen: Friday July 1\, 10:00 AM – 12:00 PM\nWhere: Galia County Fairgrounds 189 Jackson Pike\, Gallipolis\, OH\nWhat to bring?: Photo ID and proof of residency no more than 60 days old \nPre-registration is required!\nVisit freshtrak.com and enter your Gallia Co. zip code. Scroll down to the date of the distribution\, and click “RSVP: under SE Ohio Foodbank Gallia County Mobile Market.  \nQuestions?:\nCall (740)385-6813 or email jinnifer.steward@hapcap.org
URL:https://hapcap.org/event/mobile-market-gallia-county-7-1-22/
LOCATION:Gallia County Fairgrounds\, 189 Jackson Pike\, Gallipolis\, OH\, 45631\, United States
END:VEVENT
BEGIN:VEVENT
DTSTART;TZID=UTC:20220621T100000
DTEND;TZID=UTC:20220624T120000
DTSTAMP:20260421T111519
CREATED:20220621T133445Z
LAST-MODIFIED:20220621T133445Z
UID:6048-1655805600-1656072000@hapcap.org
SUMMARY:Mobile Market - Meigs County 6/24/22
DESCRIPTION:The Southeast Ohio Foodbank\, a program of Hocking Athens Perry Community Action\, will be hosting a food distribution of Friday\, June 24\, 2022 from 10:00 AM until 12:00 PM. Fresh produce and other food items will be distributed to families who are residents of Meigs County and under 200% of the federal poverty guidelines.  \nWhen: Friday June 24\, 10:00 AM – 12:00 PM\nWhere: 41850 Fairgrounds Ln. Meigs County Fairgrounds Pomeroy\, OH 45769\nWhat to bring?: Photo ID and proof of residency no more than 60 days old \nPre-registration is required!\nVisit freshtrak.com and enter your Meigs Co. zip code. Scroll down to the date of the distribution\, and click “RSVP: under SE Ohio Foodbank Meigs Mobile Market.  \nQuestions?:\nCall (740)385-6813 or email jinnifer.steward@hapcap.org
URL:https://hapcap.org/event/mobile-market-meigs-county-6-24-22/
LOCATION:Meigs County Fairgrounds\, 41850 Fairgrounds Ln.\, Pomeroy\, OH\, 45769\, United States
END:VEVENT
BEGIN:VEVENT
DTSTART;TZID=UTC:20220603T100000
DTEND;TZID=UTC:20220603T120000
DTSTAMP:20260421T111519
CREATED:20220516T151400Z
LAST-MODIFIED:20220516T151400Z
UID:5802-1654250400-1654257600@hapcap.org
SUMMARY:Mobile Market - Jackson County 6/3/22
DESCRIPTION:The Southeast Ohio Foodbank\, a program of Hocking Athens Perry Community Action\, will be hosting a food distribution on Friday June 3\, 2022. Fresh produce and other food items will be distributed to families who are residents of Jackson County and under 200% of the Federal Poverty Guidelines. PRE REGISTRATION IS REQUIRED: Visit freshtrak.com and enter your Jackson Co. Zip code. Scroll down to the date of the distribution\, and click “RSVP” under SE Ohio Foodbank Washington County Mobile Market. Attendees must bring a Photo I.D. and proof of residency no more than 60 days old. Call (740) 385-6813 or email jenifer.steward@hapcap.org for more information.
URL:https://hapcap.org/event/mobile-market-jackson-county-6-3-22/
LOCATION:Jackson County Fairgrounds\, 96 Meadow Run Road\, Wellston\, OH\, 45692\, United States
END:VEVENT
BEGIN:VEVENT
DTSTART;TZID=UTC:20220527T100000
DTEND;TZID=UTC:20220527T120000
DTSTAMP:20260421T111519
CREATED:20220516T150908Z
LAST-MODIFIED:20220516T150908Z
UID:5799-1653645600-1653652800@hapcap.org
SUMMARY:Mobile Market - Washington County 5/27/22
DESCRIPTION:The Southeast Ohio Foodbank\, a program of Hocking Athens Perry Community Action\, will be hosting a food distribution on Friday May 27\, 2022. Fresh produce and other food items will be distributed to families who are residents of Washington County and under 200% of the Federal Poverty Guidelines. PRE REGISTRATION IS REQUIRED: Visit freshtrak.com and enter your Washington Co. Zip code. Scroll down to the date of the distribution\, and click “RSVP” under SE Ohio Foodbank Washington County Mobile Market. Attendees must bring a Photo I.D. and proof of residency no more than 60 days old. Call (740) 385-6813 or email jenifer.steward@hapcap.org for more information.
URL:https://hapcap.org/event/mobile-market-washington-county-5-27-22/
LOCATION:Washington County Fairgrounds\, 922 Front St.\, Marietta\, OH\, 45750\, United States
END:VEVENT
BEGIN:VEVENT
DTSTART;TZID=UTC:20220429T123000
DTEND;TZID=UTC:20220429T143000
DTSTAMP:20260421T111519
CREATED:20220425T135418Z
LAST-MODIFIED:20220425T135418Z
UID:5668-1651235400-1651242600@hapcap.org
SUMMARY:Gallia County Mobile Market
DESCRIPTION:Fresh produce and other food items will be distributed to families who are residents of Gallia County and under 200% of the Federal Poverty Guidelines.  \nRegister at Freshtrak.com. Enter your Gallia County zip code. Scroll down to the date of the distribution\, and click “RSVP” under SE Ohio Foodbank Gallia County Mobile Market.
URL:https://hapcap.org/event/gallia-county-mobile-market/
LOCATION:OH
END:VEVENT
BEGIN:VEVENT
DTSTART;TZID=America/Halifax:20220426T120000
DTEND;TZID=America/Halifax:20220426T133000
DTSTAMP:20260421T111519
CREATED:20220425T133403Z
LAST-MODIFIED:20220425T135539Z
UID:5662-1650974400-1650979800@hapcap.org
SUMMARY:On-site Market
DESCRIPTION:Fresh produce and other food items will be distributed to families who are residents of Athens\, Gallia\, Hocking\, Jackson\, Lawrence\, Meigs\, Morgan\, Perry\, Vinton\, or Washington Counties and under 200% of the Federal Poverty Guidelines.
URL:https://hapcap.org/event/on-site-market26/
LOCATION:Southeast Ohio Foodbank\, 1005 C I C Drive\, Logan\, OH\, 43138\, United States
END:VEVENT
END:VCALENDAR